BEGIN:VCALENDAR
VERSION:2.0
PRODID:-//eventon.com NONSGML v1.0//EN
CALSCALE:GREGORIAN
METHOD:PUBLISH
BEGIN:VEVENT
UID:69e5f236ba6e2
DTSTAMP:20260420T093030Z
DTSTART:20260216T203000Z
DTEND:20260217T055900Z
LOCATION:
SUMMARY:Sisters Quran Halaqah and Reflections
DESCRIPTION:\nhttps://planomasjid.org/events/sisters-quran-halaqah-and-refl
 ections/
URL:https://planomasjid.org/events/sisters-quran-halaqah-and-reflections/
END:VEVENT
END:VCALENDAR