BEGIN:VCALENDAR
VERSION:2.0
PRODID:-//eventon.com NONSGML v1.0//EN
CALSCALE:GREGORIAN
METHOD:PUBLISH
BEGIN:VEVENT
UID:69e606c542c7d
DTSTAMP:20260420T105813Z
DTSTART:20180512T193000Z
DTEND:20180512T203000Z
LOCATION:
SUMMARY:Ramadan Prep
DESCRIPTION:Ramadan Prep\nhttps://planomasjid.org/events/ramadan-prep/
URL:https://planomasjid.org/events/ramadan-prep/
END:VEVENT
END:VCALENDAR