BEGIN:VCALENDAR
VERSION:2.0
PRODID:-//eventon.com NONSGML v1.0//EN
CALSCALE:GREGORIAN
METHOD:PUBLISH
BEGIN:VEVENT
UID:69e7515fe25f4
DTSTAMP:20260421T102847Z
DTSTART:20180407T010000Z
DTEND:20180407T030000Z
LOCATION:
SUMMARY:Haji Noor Deen Calligraphy Exhibition
DESCRIPTION:Haji Noor Deen Calligraphy Exhibition\nhttps://planomasjid.org/
 events/haji-noor-deen-calligraphy-exhibition/
URL:https://planomasjid.org/events/haji-noor-deen-calligraphy-exhibition/
END:VEVENT
END:VCALENDAR