BEGIN:VCALENDAR
VERSION:2.0
PRODID:-//eventon.com NONSGML v1.0//EN
CALSCALE:GREGORIAN
METHOD:PUBLISH
BEGIN:VEVENT
UID:69eb46f16f74d
DTSTAMP:20260424T103321Z
DTSTART:20180322T220000Z
DTEND:20180323T000000Z
LOCATION:
SUMMARY:QIRAH CLASS - Orientation & Evaluation Night
DESCRIPTION:QIRAH CLASS - Orientation & Evaluation Night\nhttps://planomasj
 id.org/events/qirah-class-orientation-evaluation-night/
URL:https://planomasjid.org/events/qirah-class-orientation-evaluation-night/
END:VEVENT
END:VCALENDAR