BEGIN:VCALENDAR
VERSION:2.0
PRODID:-//eventon.com NONSGML v1.0//EN
CALSCALE:GREGORIAN
METHOD:PUBLISH
BEGIN:VEVENT
UID:69e7536817b90
DTSTAMP:20260421T103728Z
DTSTART:20180519T030000Z
DTEND:20180519T040000Z
LOCATION:
SUMMARY:Youth Qiyam
DESCRIPTION:Youth Qiyam\nhttps://planomasjid.org/events/youth-qiyam-3/
URL:https://planomasjid.org/events/youth-qiyam-3/
END:VEVENT
END:VCALENDAR