BEGIN:VCALENDAR
VERSION:2.0
PRODID:-//eventon.com NONSGML v1.0//EN
CALSCALE:GREGORIAN
METHOD:PUBLISH
BEGIN:VEVENT
UID:69e62337cba5b
DTSTAMP:20260420T125935Z
DTSTART:20180315T193000Z
DTEND:20180315T210000Z
LOCATION:
SUMMARY:Spring Break Social- Group Dynamix at IACC
DESCRIPTION:Spring Break Social- Group Dynamix at IACC\nhttps://planomasjid
 .org/events/spring-break-social-group-dynamix-at-iacc/
URL:https://planomasjid.org/events/spring-break-social-group-dynamix-at-iacc/
END:VEVENT
END:VCALENDAR