BEGIN:VCALENDAR
VERSION:2.0
PRODID:-//eventon.com NONSGML v1.0//EN
CALSCALE:GREGORIAN
METHOD:PUBLISH
BEGIN:VEVENT
UID:69e8e522a1612
DTSTAMP:20260422T151130Z
DTSTART:20180203T170000Z
DTEND:20180203T183000Z
LOCATION:
SUMMARY:Story Time
DESCRIPTION:Story Time\nhttps://planomasjid.org/events/story-time-3/
URL:https://planomasjid.org/events/story-time-3/
END:VEVENT
END:VCALENDAR