BEGIN:VCALENDAR
VERSION:2.0
PRODID:-//eventon.com NONSGML v1.0//EN
CALSCALE:GREGORIAN
METHOD:PUBLISH
BEGIN:VEVENT
UID:69e73c92806f1
DTSTAMP:20260421T090002Z
DTSTART:20180204T204500Z
DTEND:20180204T234500Z
LOCATION:
SUMMARY:The Heart Of Worship
DESCRIPTION:The Heart Of Worship\nhttps://planomasjid.org/events/the-heart-
 of-worship/
URL:https://planomasjid.org/events/the-heart-of-worship/
END:VEVENT
END:VCALENDAR