BEGIN:VCALENDAR
VERSION:2.0
PRODID:-//eventon.com NONSGML v1.0//EN
CALSCALE:GREGORIAN
METHOD:PUBLISH
BEGIN:VEVENT
UID:69e5f1817daca
DTSTAMP:20260420T092729Z
DTSTART:20180116T003000Z
DTEND:20180116T033000Z
LOCATION:
SUMMARY:A Fearless Heart Book Discussions
DESCRIPTION:A Fearless Heart Book Discussions\nhttps://planomasjid.org/even
 ts/a-fearless-heart-book-discussions/
URL:https://planomasjid.org/events/a-fearless-heart-book-discussions/
END:VEVENT
END:VCALENDAR