BEGIN:VCALENDAR
VERSION:2.0
PRODID:-//eventon.com NONSGML v1.0//EN
CALSCALE:GREGORIAN
METHOD:PUBLISH
BEGIN:VEVENT
UID:69e73c7a450e9
DTSTAMP:20260421T085938Z
DTSTART:20180113T170000Z
DTEND:20180113T190000Z
LOCATION:
SUMMARY:Certified Young Interfaith Speaker
DESCRIPTION:Certified Young Interfaith Speaker\nhttps://planomasjid.org/eve
 nts/certified-young-interfaith-speaker-2/
URL:https://planomasjid.org/events/certified-young-interfaith-speaker-2/
END:VEVENT
END:VCALENDAR